BEGIN:VCALENDAR
VERSION:2.0
PRODID:-//Squarespace Inc/Squarespace 6//v6//EN
BEGIN:VEVENT
UID:5f7949d5d0564007bda08eb2@squarespace.com
DTSTAMP:20201007T220515Z
DTSTART:20201018T203000Z
DTEND:20201020T043000Z
SUMMARY:Core Essentials Theory Only
END:VEVENT
END:VCALENDAR
