BEGIN:VCALENDAR
VERSION:2.0
PRODID:-//Squarespace Inc/Squarespace 6//v6//EN
BEGIN:VEVENT
UID:5f7e1d19c3be3339309cb5f8@squarespace.com
DTSTAMP:20201007T195532Z
DTSTART:20201122T203000Z
DTEND:20201124T043000Z
SUMMARY:Core Essentials Theory Only - November
END:VEVENT
END:VCALENDAR
