BEGIN:VCALENDAR
VERSION:2.0
PRODID:-//Squarespace Inc/Squarespace 6//v6//EN
BEGIN:VEVENT
UID:5f7946e7f33e0c309a2528f5@squarespace.com
DTSTAMP:20201007T195010Z
DTSTART:20201018T203000Z
DTEND:20201021T043000Z
SUMMARY:Core Essentials Theory &amp\; Practical
END:VEVENT
END:VCALENDAR
