BEGIN:VCALENDAR
VERSION:2.0
PRODID:-//Squarespace Inc/Squarespace 6//v6//EN
BEGIN:VEVENT
UID:5f7e188bc3be3339309b8ffe@squarespace.com
DTSTAMP:20201007T195102Z
DTSTART:20201122T203000Z
DTEND:20201125T043000Z
SUMMARY:Core Essentials Theory &amp\; Practical (Copy)
END:VEVENT
END:VCALENDAR
