BEGIN:VCALENDAR
VERSION:2.0
PRODID:-//Squarespace Inc/Squarespace 6//v6//EN
BEGIN:VEVENT
UID:5f7e19719caf021fc3d679e7@squarespace.com
DTSTAMP:20201007T195147Z
DTSTART:20210926T203000Z
DTEND:20210929T043000Z
SUMMARY:Core Essentials Theory &amp\; Practical - September 2021
END:VEVENT
END:VCALENDAR
