BEGIN:VCALENDAR
VERSION:2.0
PRODID:-//Squarespace Inc/Squarespace 6//v6//EN
BEGIN:VEVENT
UID:5fad13f0e44daa6be0c576f9@squarespace.com
DTSTAMP:20201112T105643Z
DTSTART:20201206T200000Z
DTEND:20201206T220000Z
SUMMARY:Treating Melasma
GEO:40.720756;-74.000761
LOCATION:NZ Laser Training Institute\, Unit 4\, 91 Central Park Drive\, Auc
 kland\, New Zealand
END:VEVENT
END:VCALENDAR
