BEGIN:VCALENDAR
VERSION:2.0
PRODID:-//Squarespace Inc/Squarespace 6//v6//EN
BEGIN:VEVENT
UID:5f7c1c4647844740a18e81a0@squarespace.com
DTSTAMP:20201007T232618Z
DTSTART:20201108T203000Z
DTEND:20201109T043000Z
SUMMARY:Open Day
GEO:-36.857576;174.636873
LOCATION:NZ Laser Training Centre\, Unit 4\, 91-93 Central Park Drive\, Hen
 derson\, Auckland\, New Zealand
END:VEVENT
END:VCALENDAR
